BEGIN:VCALENDAR
VERSION:2.0
PRODID:-//AudioTheme 1.8.0
BEGIN:VEVENT
UID:https://www.paulthorne.co.uk/?post_type=audiotheme_gig&#038;p=934
URL:https://www.paulthorne.co.uk/live/gig-934/
DTSTART;TZID=GMT:20191210T193000
SUMMARY:The Comedy Store
DESCRIPTION:The Edge : Topical comedy show with Paul Thorne\, Geoff Norcott\, Scott Capurro\, Ian Stone\, Abigoliah Schamaun and Ben Norris
LOCATION:The Comedy Store\, 1a Oxendon Street\, London\, \, United Kingdom\, SW1Y 4EE
END:VEVENT
END:VCALENDAR