BEGIN:VCALENDAR
VERSION:2.0
PRODID:-//AudioTheme 1.8.0
BEGIN:VEVENT
UID:https://www.paulthorne.co.uk/?post_type=audiotheme_gig&#038;p=933
URL:https://www.paulthorne.co.uk/live/gig-933/
DTSTART;TZID=GMT:20191207T210000
SUMMARY:Banana Cabaret
DESCRIPTION:Paul Thorne with Laura Lexx\, Prince Abdi and Joe Jacobs
LOCATION:Banana Cabaret\, The Bedford  77 Bedford Hill\, Balham \, London\, \, UK\, SW12 9HD
END:VEVENT
END:VCALENDAR