BEGIN:VCALENDAR
VERSION:2.0
PRODID:-//AudioTheme 1.8.0
BEGIN:VEVENT
UID:https://www.paulthorne.co.uk/?post_type=audiotheme_gig&#038;p=619
URL:https://www.paulthorne.co.uk/live/gig-619/
DTSTART;TZID=GMT:20171010T190000
SUMMARY:The Comedy Store
DESCRIPTION:The Cutting Edge : Topical Comedy Show with Paul Thorne\, Geoff Norcott\, Ben Norris\, Alistair Barrie\, Allyson June Smith and Ian Stone.
LOCATION:The Comedy Store\, 1a Oxendon Street\, London\, \, United Kingdom\, SW1Y 4EE
END:VEVENT
END:VCALENDAR