BEGIN:VCALENDAR
VERSION:2.0
PRODID:-//AudioTheme 1.8.0
BEGIN:VEVENT
UID:https://www.paulthorne.co.uk/?post_type=audiotheme_gig&#038;p=612
URL:https://www.paulthorne.co.uk/live/gig-612/
DTSTART;TZID=GMT:20170930T190000
SUMMARY:Nottingham Glee Club
DESCRIPTION:Paul Thorne with Ian Coppinger\, Andy Robinson and David Trent
LOCATION:Nottingham Glee Club\, British Waterways Building\,  The Waterfront\,    \, Nottingham\, \, UK\, NG1 7EH
END:VEVENT
END:VCALENDAR