BEGIN:VCALENDAR
VERSION:2.0
PRODID:-//AudioTheme 1.8.0
BEGIN:VEVENT
UID:https://www.paulthorne.co.uk/?post_type=audiotheme_gig&#038;p=437
URL:https://www.paulthorne.co.uk/live/gig-437/
DTSTART;TZID=GMT:20161220T200000
SUMMARY:The Comedy Store
DESCRIPTION:The Cutting Edge: Topical Comedy Show with Paul Thorne\, Ian Stone\, Geoff Norcott\, Ola\, Roger Monkhouse\, Steve Gribbin
LOCATION:The Comedy Store\, 1a Oxendon Street\, London\, \, United Kingdom\, SW1Y 4EE
END:VEVENT
END:VCALENDAR