BEGIN:VCALENDAR
VERSION:2.0
PRODID:-//AudioTheme 1.8.0
BEGIN:VEVENT
UID:https://www.paulthorne.co.uk/?post_type=audiotheme_gig&#038;p=357
URL:https://www.paulthorne.co.uk/live/gig-357/
DTSTART;TZID=GMT:20160720T183000
SUMMARY:Ealing Festival
DESCRIPTION:Paul Thorne with Andy Parsons\, Hal Cruttenden and Sean Hughes
LOCATION:Ealing Festival\, Walpole Park\, Mattock Lane\, Ealing \, London\, \, UK\, W5
END:VEVENT
END:VCALENDAR