BEGIN:VCALENDAR
VERSION:2.0
PRODID:-//AudioTheme 1.8.0
BEGIN:VEVENT
UID:https://www.paulthorne.co.uk/?post_type=audiotheme_gig&#038;p=288
URL:https://www.paulthorne.co.uk/live/gig-288/
DTSTART;TZID=GMT:20160331T190000
SUMMARY:Hellfire Club
LOCATION:Hellfire Club\, Wycombe Swan Theatre\,   St. Mary Street\,\, High Wycombe\, \, UK\, HP11 2XE
END:VEVENT
END:VCALENDAR