BEGIN:VCALENDAR
VERSION:2.0
PRODID:-//AudioTheme 1.8.0
BEGIN:VEVENT
UID:https://www.paulthorne.co.uk/?post_type=audiotheme_gig&#038;p=285
URL:https://www.paulthorne.co.uk/live/gig-285/
DTSTART;TZID=GMT:20160329T190000
SUMMARY:The Comedy Store
DESCRIPTION:The Cutting Edge. Topical Comedy show with Paul Thorne\, Ian Stone\, Ben Norris\, Jarred Christmas\, Sean Meo\, Ola.
LOCATION:The Comedy Store\, 1a Oxendon Street\, London\, \, United Kingdom\, SW1Y 4EE
END:VEVENT
END:VCALENDAR