BEGIN:VCALENDAR
VERSION:2.0
PRODID:-//AudioTheme 1.8.0
BEGIN:VEVENT
UID:https://www.paulthorne.co.uk/?post_type=audiotheme_gig&#038;p=227
URL:https://www.paulthorne.co.uk/live/gig-227/
DTSTART;TZID=GMT:20151231T213000
SUMMARY:The Comedy Store
DESCRIPTION:9.30pm Paul Thorne with Mike Gunn\, Pete Johansson\, Marlon Davis\, Rob Deering.
LOCATION:The Comedy Store\, 1a Oxendon Street\, London\, \, United Kingdom\, SW1Y 4EE
END:VEVENT
END:VCALENDAR