BEGIN:VCALENDAR
VERSION:2.0
PRODID:-//AudioTheme 1.8.0
BEGIN:VEVENT
UID:https://www.paulthorne.co.uk/?post_type=audiotheme_gig&#038;p=1541
URL:https://www.paulthorne.co.uk/live/gig-1541/
DTSTART;TZID=GMT:20260305T200000
SUMMARY:The Stag Theatre
LOCATION:The Stag Theatre\, London Road \, Sevenoaks\, \, TN13 1ZZ
END:VEVENT
END:VCALENDAR