BEGIN:VCALENDAR
VERSION:2.0
PRODID:-//AudioTheme 1.8.0
BEGIN:VEVENT
UID:https://www.paulthorne.co.uk/?post_type=audiotheme_gig&#038;p=1536
URL:https://www.paulthorne.co.uk/live/gig-1536/
DTSTART;TZID=GMT:20260320T200000
SUMMARY:Barnstomers Comedy Club
LOCATION:Barnstomers Comedy Club\, Winchester Discovery Centre  Jewry Street \, Winchester\, \, SO23 8SB
END:VEVENT
END:VCALENDAR