BEGIN:VCALENDAR
VERSION:2.0
PRODID:-//AudioTheme 1.8.0
BEGIN:VEVENT
UID:https://www.paulthorne.co.uk/?post_type=audiotheme_gig&#038;p=1533
URL:https://www.paulthorne.co.uk/live/gig-1533/
DTSTART;TZID=GMT:20260306T190000
SUMMARY:Parkside Community Hall
LOCATION:Parkside Community Hall\, Woburn Street\, Ampthill\, \, MK45 2HX
END:VEVENT
END:VCALENDAR