BEGIN:VCALENDAR
VERSION:2.0
PRODID:-//AudioTheme 1.8.0
BEGIN:VEVENT
UID:https://www.paulthorne.co.uk/?post_type=audiotheme_gig&#038;p=166
URL:https://www.paulthorne.co.uk/live/166/
DTSTART;TZID=GMT:20151016T183000
SUMMARY:The Comedy Store
DESCRIPTION:Two shows at 7.30 and 11pm   Paul Thorne with Phil Nichol\, Nathan Caton\, Paul Zerdin\, Gordon Southern
LOCATION:The Comedy Store\, 1a Oxendon Street\, London\, \, United Kingdom\, SW1Y 4EE
END:VEVENT
END:VCALENDAR