BEGIN:VCALENDAR
VERSION:2.0
PRODID:-//AudioTheme 1.8.0
BEGIN:VEVENT
UID:https://www.paulthorne.co.uk/?post_type=audiotheme_gig&#038;p=161
URL:https://www.paulthorne.co.uk/live/161/
DTSTART;TZID=GMT:20151002T190000
SUMMARY:The Comedy Store (Manchester)
DESCRIPTION:Paul Thorne with Jason Cook\, Jeff Innocent\, Josh Howie\, Raymond & Mr Timpkins
LOCATION:The Comedy Store (Manchester)\, Arches 3 and 4   Deansgate Locks  Whitworth Street West\, Manchester\, \, United Kingdom\, M1 5LH
END:VEVENT
END:VCALENDAR